BEGIN:VCALENDAR
VERSION:2.0
PRODID:-//Lincoln Heritage Council - ECPv6.15.20//NONSGML v1.0//EN
CALSCALE:GREGORIAN
METHOD:PUBLISH
X-ORIGINAL-URL:https://lhcbsa.org
X-WR-CALDESC:Events for Lincoln Heritage Council
REFRESH-INTERVAL;VALUE=DURATION:PT1H
X-Robots-Tag:noindex
X-PUBLISHED-TTL:PT1H
BEGIN:VTIMEZONE
TZID:America/Kentucky/Louisville
BEGIN:DAYLIGHT
TZOFFSETFROM:-0500
TZOFFSETTO:-0400
TZNAME:EDT
DTSTART:20250309T070000
END:DAYLIGHT
BEGIN:STANDARD
TZOFFSETFROM:-0400
TZOFFSETTO:-0500
TZNAME:EST
DTSTART:20251102T060000
END:STANDARD
BEGIN:DAYLIGHT
TZOFFSETFROM:-0500
TZOFFSETTO:-0400
TZNAME:EDT
DTSTART:20260308T070000
END:DAYLIGHT
BEGIN:STANDARD
TZOFFSETFROM:-0400
TZOFFSETTO:-0500
TZNAME:EST
DTSTART:20261101T060000
END:STANDARD
BEGIN:DAYLIGHT
TZOFFSETFROM:-0500
TZOFFSETTO:-0400
TZNAME:EDT
DTSTART:20270314T070000
END:DAYLIGHT
BEGIN:STANDARD
TZOFFSETFROM:-0400
TZOFFSETTO:-0500
TZNAME:EST
DTSTART:20271107T060000
END:STANDARD
END:VTIMEZONE
BEGIN:VEVENT
DTSTART;TZID=America/Kentucky/Louisville:20260904T000000
DTEND;TZID=America/Kentucky/Louisville:20260904T000000
DTSTAMP:20260419T093416
CREATED:20251203T154529Z
LAST-MODIFIED:20251203T154529Z
UID:14381-1788480000-1788480000@lhcbsa.org
SUMMARY:Kentuckiana Golf Tournament
DESCRIPTION:
URL:https://lhcbsa.org/event/kentuckiana-golf-tournament/
LOCATION:KY
ORGANIZER;CN="James Lennon":MAILTO:james.lennon@scouting.org
END:VEVENT
BEGIN:VEVENT
DTSTART;TZID=America/Kentucky/Louisville:20260907T000000
DTEND;TZID=America/Kentucky/Louisville:20260907T000000
DTSTAMP:20260419T093416
CREATED:20251203T154529Z
LAST-MODIFIED:20251203T154529Z
UID:14382-1788739200-1788739200@lhcbsa.org
SUMMARY:Office & Camps Closed
DESCRIPTION:
URL:https://lhcbsa.org/event/office-camps-closed-6/
LOCATION:KY
END:VEVENT
BEGIN:VEVENT
DTSTART;TZID=America/Kentucky/Louisville:20260911T000000
DTEND;TZID=America/Kentucky/Louisville:20260913T000000
DTSTAMP:20260419T093416
CREATED:20251203T154530Z
LAST-MODIFIED:20260113T192828Z
UID:14383-1789084800-1789257600@lhcbsa.org
SUMMARY:Wood Badge Weekend #1
DESCRIPTION:Find more information about Wood Badge here https://lhcbsa.org/wood-badge/
URL:https://lhcbsa.org/event/wood-badge-weekend-1-2/
LOCATION:Pfeffer Scout Reservation\, 1531 Cross Rd\, Benton\, KY\, 42025\, United States
ORGANIZER;CN="Stuart Burris":MAILTO:wb.14.205.26@gmail.com
END:VEVENT
BEGIN:VEVENT
DTSTART;TZID=America/Kentucky/Louisville:20260912T000000
DTEND;TZID=America/Kentucky/Louisville:20260912T000000
DTSTAMP:20260419T093416
CREATED:20251203T154530Z
LAST-MODIFIED:20251203T154530Z
UID:14384-1789171200-1789171200@lhcbsa.org
SUMMARY:Shoot-A-Palooza
DESCRIPTION:
URL:https://lhcbsa.org/event/shoot-a-palooza/
LOCATION:Camp Crooked Creek\, 950 Terry Dr\, Shepherdsville\, KY\, 40165\, United States
END:VEVENT
BEGIN:VEVENT
DTSTART;TZID=America/Kentucky/Louisville:20260914T000000
DTEND;TZID=America/Kentucky/Louisville:20260918T000000
DTSTAMP:20260419T093416
CREATED:20251203T154539Z
LAST-MODIFIED:20251203T154539Z
UID:14386-1789344000-1789689600@lhcbsa.org
SUMMARY:Adventure Camp - Fall
DESCRIPTION:
URL:https://lhcbsa.org/event/adventure-camp-fall/
LOCATION:Camp Crooked Creek\, 950 Terry Dr\, Shepherdsville\, KY\, 40165\, United States
END:VEVENT
BEGIN:VEVENT
DTSTART;TZID=America/Kentucky/Louisville:20260918T000000
DTEND;TZID=America/Kentucky/Louisville:20260920T000000
DTSTAMP:20260419T093416
CREATED:20251203T154539Z
LAST-MODIFIED:20251203T154539Z
UID:14387-1789689600-1789862400@lhcbsa.org
SUMMARY:OA Induction Weekend
DESCRIPTION:
URL:https://lhcbsa.org/event/oa-induction-weekend-5/
LOCATION:Pfeffer Scout Reservation\, 1531 Cross Rd\, Benton\, KY\, 42025\, United States
END:VEVENT
BEGIN:VEVENT
DTSTART;TZID=America/Kentucky/Louisville:20260926T000000
DTEND;TZID=America/Kentucky/Louisville:20260926T000000
DTSTAMP:20260419T093416
CREATED:20251203T154539Z
LAST-MODIFIED:20251203T154539Z
UID:14389-1790380800-1790380800@lhcbsa.org
SUMMARY:Shoot-A-Palooza
DESCRIPTION:
URL:https://lhcbsa.org/event/shoot-a-palooza-2/
LOCATION:Pfeffer Scout Reservation\, 1531 Cross Rd\, Benton\, KY\, 42025\, United States
END:VEVENT
BEGIN:VEVENT
DTSTART;TZID=America/Kentucky/Louisville:20260926T000000
DTEND;TZID=America/Kentucky/Louisville:20260928T000000
DTSTAMP:20260419T093416
CREATED:20251203T154539Z
LAST-MODIFIED:20260209T205151Z
UID:14388-1790380800-1790553600@lhcbsa.org
SUMMARY:Cub Scout Event-Top Cub
DESCRIPTION:
URL:https://lhcbsa.org/event/cub-scout-event-2/
LOCATION:Camp Crooked Creek\, 950 Terry Dr\, Shepherdsville\, KY\, 40165\, United States
END:VEVENT
END:VCALENDAR