BEGIN:VCALENDAR
VERSION:2.0
PRODID:-//Lincoln Heritage Council - ECPv6.15.20//NONSGML v1.0//EN
CALSCALE:GREGORIAN
METHOD:PUBLISH
X-ORIGINAL-URL:https://lhcbsa.org
X-WR-CALDESC:Events for Lincoln Heritage Council
REFRESH-INTERVAL;VALUE=DURATION:PT1H
X-Robots-Tag:noindex
X-PUBLISHED-TTL:PT1H
BEGIN:VTIMEZONE
TZID:America/Kentucky/Louisville
BEGIN:DAYLIGHT
TZOFFSETFROM:-0500
TZOFFSETTO:-0400
TZNAME:EDT
DTSTART:20250309T070000
END:DAYLIGHT
BEGIN:STANDARD
TZOFFSETFROM:-0400
TZOFFSETTO:-0500
TZNAME:EST
DTSTART:20251102T060000
END:STANDARD
BEGIN:DAYLIGHT
TZOFFSETFROM:-0500
TZOFFSETTO:-0400
TZNAME:EDT
DTSTART:20260308T070000
END:DAYLIGHT
BEGIN:STANDARD
TZOFFSETFROM:-0400
TZOFFSETTO:-0500
TZNAME:EST
DTSTART:20261101T060000
END:STANDARD
BEGIN:DAYLIGHT
TZOFFSETFROM:-0500
TZOFFSETTO:-0400
TZNAME:EDT
DTSTART:20270314T070000
END:DAYLIGHT
BEGIN:STANDARD
TZOFFSETFROM:-0400
TZOFFSETTO:-0500
TZNAME:EST
DTSTART:20271107T060000
END:STANDARD
END:VTIMEZONE
BEGIN:VEVENT
DTSTART;TZID=America/Kentucky/Louisville:20260911T000000
DTEND;TZID=America/Kentucky/Louisville:20260913T000000
DTSTAMP:20260419T111734
CREATED:20251203T154530Z
LAST-MODIFIED:20260113T192828Z
UID:14383-1789084800-1789257600@lhcbsa.org
SUMMARY:Wood Badge Weekend #1
DESCRIPTION:Find more information about Wood Badge here https://lhcbsa.org/wood-badge/
URL:https://lhcbsa.org/event/wood-badge-weekend-1-2/
LOCATION:Pfeffer Scout Reservation\, 1531 Cross Rd\, Benton\, KY\, 42025\, United States
ORGANIZER;CN="Stuart Burris":MAILTO:wb.14.205.26@gmail.com
END:VEVENT
END:VCALENDAR