BEGIN:VCALENDAR
VERSION:2.0
PRODID:-//Lincoln Heritage Council - ECPv6.15.20//NONSGML v1.0//EN
CALSCALE:GREGORIAN
METHOD:PUBLISH
X-ORIGINAL-URL:https://lhcbsa.org
X-WR-CALDESC:Events for Lincoln Heritage Council
REFRESH-INTERVAL;VALUE=DURATION:PT1H
X-Robots-Tag:noindex
X-PUBLISHED-TTL:PT1H
BEGIN:VTIMEZONE
TZID:America/Kentucky/Louisville
BEGIN:DAYLIGHT
TZOFFSETFROM:-0500
TZOFFSETTO:-0400
TZNAME:EDT
DTSTART:20250309T070000
END:DAYLIGHT
BEGIN:STANDARD
TZOFFSETFROM:-0400
TZOFFSETTO:-0500
TZNAME:EST
DTSTART:20251102T060000
END:STANDARD
BEGIN:DAYLIGHT
TZOFFSETFROM:-0500
TZOFFSETTO:-0400
TZNAME:EDT
DTSTART:20260308T070000
END:DAYLIGHT
BEGIN:STANDARD
TZOFFSETFROM:-0400
TZOFFSETTO:-0500
TZNAME:EST
DTSTART:20261101T060000
END:STANDARD
BEGIN:DAYLIGHT
TZOFFSETFROM:-0500
TZOFFSETTO:-0400
TZNAME:EDT
DTSTART:20270314T070000
END:DAYLIGHT
BEGIN:STANDARD
TZOFFSETFROM:-0400
TZOFFSETTO:-0500
TZNAME:EST
DTSTART:20271107T060000
END:STANDARD
END:VTIMEZONE
BEGIN:VEVENT
DTSTART;TZID=America/Kentucky/Louisville:20260324T193000
DTEND;TZID=America/Kentucky/Louisville:20260324T203000
DTSTAMP:20260417T112923
CREATED:20260319T172841Z
LAST-MODIFIED:20260319T172841Z
UID:16700-1774380600-1774384200@lhcbsa.org
SUMMARY:Cub Camp Information Night
DESCRIPTION:CUB CAMP INFO NIGHT\nMarch 24\,2026 \n7:30 PM EST \nLed by Cub Scout Camping Chair Matt Scobee\, this webinar will feature several of our Cub Camp Directors\, who will share details about their camps\, what Scouts can expect\, and how families can get involved. \nThere will also be time for questions and answers\, so you can get everything you need to plan a great summer at camp.\n\n\n\n\n\n\n\n\n\n\n\n\n\n\n\n\n\n\nRegister Here\n\n\n\n\n\n\n\n\n\n\n\n\n\n\n\n\n\n\n\n\n\n\n\n\n\n\n\n\n\n\n\n\n\n\n\n\n\n\n\n\n\n2026 Day Cub Scout Summer Day Camps will be a ROAR-ing good time! With our Dinosaur theme your Cub Scout will get to explore\, play games\, learn songs and skits\, build crafts\, have fun with friends\, take aim at our archery and bb ranges\, experience nature\, and make memories. Sign up today to lock-in your adventure!\n\n\n\n\n\n\n\n\n\n\n\n\n\n\n\n\n\n\nMore Information and Register
URL:https://lhcbsa.org/event/cub-camp-information-night/
LOCATION:KY
END:VEVENT
END:VCALENDAR