BEGIN:VCALENDAR
VERSION:2.0
PRODID:-//Lincoln Heritage Council - ECPv6.15.20//NONSGML v1.0//EN
CALSCALE:GREGORIAN
METHOD:PUBLISH
X-ORIGINAL-URL:https://lhcbsa.org
X-WR-CALDESC:Events for Lincoln Heritage Council
REFRESH-INTERVAL;VALUE=DURATION:PT1H
X-Robots-Tag:noindex
X-PUBLISHED-TTL:PT1H
BEGIN:VTIMEZONE
TZID:America/Kentucky/Louisville
BEGIN:DAYLIGHT
TZOFFSETFROM:-0500
TZOFFSETTO:-0400
TZNAME:EDT
DTSTART:20250309T070000
END:DAYLIGHT
BEGIN:STANDARD
TZOFFSETFROM:-0400
TZOFFSETTO:-0500
TZNAME:EST
DTSTART:20251102T060000
END:STANDARD
BEGIN:DAYLIGHT
TZOFFSETFROM:-0500
TZOFFSETTO:-0400
TZNAME:EDT
DTSTART:20260308T070000
END:DAYLIGHT
BEGIN:STANDARD
TZOFFSETFROM:-0400
TZOFFSETTO:-0500
TZNAME:EST
DTSTART:20261101T060000
END:STANDARD
BEGIN:DAYLIGHT
TZOFFSETFROM:-0500
TZOFFSETTO:-0400
TZNAME:EDT
DTSTART:20270314T070000
END:DAYLIGHT
BEGIN:STANDARD
TZOFFSETFROM:-0400
TZOFFSETTO:-0500
TZNAME:EST
DTSTART:20271107T060000
END:STANDARD
END:VTIMEZONE
BEGIN:VEVENT
DTSTART;TZID=America/Kentucky/Louisville:20260313T000000
DTEND;TZID=America/Kentucky/Louisville:20260315T000000
DTSTAMP:20260420T135435
CREATED:20251203T154257Z
LAST-MODIFIED:20260223T171050Z
UID:14326-1773360000-1773532800@lhcbsa.org
SUMMARY:Scouts BSA Event - Pathfinder
DESCRIPTION:This event was postponed from January 23-25. Get ready to chart your own adventure! Pathfinder is an exciting orienteering event designed for all skill levels—whether you’re a seasoned navigator or brand new to the compass. Choose your challenge and explore the outdoors as you and your buddy race to find each checkpoint. Grab a map\, trust your instincts\, and discover the thrill of finding your way!\n\nLeader Guide \nFlyer 
URL:https://lhcbsa.org/event/scouts-bsa-event-pathfinder/
LOCATION:Pfeffer Scout Reservation\, 1531 Cross Rd\, Benton\, KY\, 42025\, United States
END:VEVENT
BEGIN:VEVENT
DTSTART;TZID=America/Kentucky/Louisville:20260313T000000
DTEND;TZID=America/Kentucky/Louisville:20260315T000000
DTSTAMP:20260420T135435
CREATED:20251203T154313Z
LAST-MODIFIED:20260114T202254Z
UID:14331-1773360000-1773532800@lhcbsa.org
SUMMARY:OA Spring Pow-Wow
DESCRIPTION:
URL:https://lhcbsa.org/event/oa-spring-pow-wow-2/
LOCATION:Tunnel Mill Scout Reservation\, 3913 Tunnel Mill Rd\, Charlestown\, IN\, 47111
END:VEVENT
BEGIN:VEVENT
DTSTART;TZID=America/Kentucky/Louisville:20260313T000000
DTEND;TZID=America/Kentucky/Louisville:20260315T000000
DTSTAMP:20260420T135435
CREATED:20251203T154313Z
LAST-MODIFIED:20260113T005925Z
UID:14332-1773360000-1773532800@lhcbsa.org
SUMMARY:Scouts BSA Event - Navigator Challenge
DESCRIPTION:The Navigator Challenge is a council regional camporee event that combines a Scout-O orienteering event with a geocaching event. Both events will have training workshops in the morning followed by in-the-woods orienteering courses and geocache searches in the afternoon. Scouts can choose to do one or the other track. \n\nFlyer\nLeader Guide
URL:https://lhcbsa.org/event/scouts-bsa-event-navigator-challenge/
LOCATION:Camp Crooked Creek\, 950 Terry Dr\, Shepherdsville\, KY\, 40165\, United States
ORGANIZER;CN="Sarah Rathburn":MAILTO:Sarah.Rathburn@scouting.org
END:VEVENT
BEGIN:VEVENT
DTSTART;TZID=America/Kentucky/Louisville:20260313T170000
DTEND;TZID=America/Kentucky/Louisville:20260314T170000
DTSTAMP:20260420T135435
CREATED:20260108T221234Z
LAST-MODIFIED:20260108T221234Z
UID:14732-1773421200-1773507600@lhcbsa.org
SUMMARY:IOLS & BALOO Training
DESCRIPTION:Join us for a weekend of IOLS & BALOO training. This course will be held at Brotherhood Lodge at Camp Crooked Creek.
URL:https://lhcbsa.org/event/iols-baloo-training/
LOCATION:Camp Crooked Creek\, 950 Terry Dr\, Shepherdsville\, KY\, 40165\, United States
ORGANIZER;CN="Chris Mohler":MAILTO:Chrismohler32@gmail.com
END:VEVENT
BEGIN:VEVENT
DTSTART;TZID=America/Kentucky/Louisville:20260313T180000
DTEND;TZID=America/Kentucky/Louisville:20260314T180000
DTSTAMP:20260420T135435
CREATED:20260112T223901Z
LAST-MODIFIED:20260112T224049Z
UID:14973-1773424800-1773511200@lhcbsa.org
SUMMARY:Wilderness Remote First Aid & CPR
DESCRIPTION:ECSI – Emergency Care and Safety Institute Wilderness and Remote First Aid Course: Designed for scouts and scout leaders\, outdoor enthusiasts and anyone who works or spends time in remote environments\, this course teaches advanced skills to be used in emergencies when help from professional first responders may be far away. Based on the Scouting America Wilderness First Aid Curriculum and Doctrine Guidelines\, this course aligns with OSHA’s Best Practices for Workplace First Aid Training Programs. Prerequisites: Must be at least 14 years old and hold current adult CPR/AED certification (class available below) from one of the following programs: American Red Cross\, Canadian Red Cross\, Medic First Aid\, American Heart Association\, National Safety Council\, American Safety and Health Institute or Emergency Care and Safety Institute.\nTopics include:\nAction at an Emergency Checking an Injured or Ill\nBleeding\nWound Care\nHead Brain and Spinal Injuries\nPerson\nBandaging Wounds\nSplinting\nShock\nChest Injuries\nand more \nDates\, Time & Location ECSI – WRFA – Saturday March 14th\, 2026 8:00 am to 6:00 pm (Plus 8 hours online ahead of time) at the LHC office – Course Cost $130.\nAmerican RedCross – Adult CPR/AED – Friday March 13th\, 2026 6:00 pm to 9:00 pm at the LHC office – Course Cost $45\n*CPR/AED & WRFA Certifications are valid for 2 years.\nPlease register via Tentaroo. If you have any questions about the class please email or call Jerome McNear 502-554-7980 / jeromemcnear@gmail.com or Paul Lape 847-372-6020 / paullape@att.net \n  \nFlyer
URL:https://lhcbsa.org/event/wilderness-remote-first-aid-cpr/
LOCATION:Sam Swope Scout Center – Lincoln Heritage Council\, 12001 Sycamore Station Pl\, Louisville\, KY 40299\, USA\, 12001 Sycamore Station Place\, Louisville\, 40299\, United States
ORGANIZER;CN="Jerome McNear":MAILTO:jeromemcnear@gmail.com
END:VEVENT
END:VCALENDAR