BEGIN:VCALENDAR
VERSION:2.0
PRODID:-//Lincoln Heritage Council - ECPv6.15.20//NONSGML v1.0//EN
CALSCALE:GREGORIAN
METHOD:PUBLISH
X-WR-CALNAME:Lincoln Heritage Council
X-ORIGINAL-URL:https://lhcbsa.org
X-WR-CALDESC:Events for Lincoln Heritage Council
REFRESH-INTERVAL;VALUE=DURATION:PT1H
X-Robots-Tag:noindex
X-PUBLISHED-TTL:PT1H
BEGIN:VTIMEZONE
TZID:America/Kentucky/Louisville
BEGIN:DAYLIGHT
TZOFFSETFROM:-0500
TZOFFSETTO:-0400
TZNAME:EDT
DTSTART:20250309T070000
END:DAYLIGHT
BEGIN:STANDARD
TZOFFSETFROM:-0400
TZOFFSETTO:-0500
TZNAME:EST
DTSTART:20251102T060000
END:STANDARD
BEGIN:DAYLIGHT
TZOFFSETFROM:-0500
TZOFFSETTO:-0400
TZNAME:EDT
DTSTART:20260308T070000
END:DAYLIGHT
BEGIN:STANDARD
TZOFFSETFROM:-0400
TZOFFSETTO:-0500
TZNAME:EST
DTSTART:20261101T060000
END:STANDARD
BEGIN:DAYLIGHT
TZOFFSETFROM:-0500
TZOFFSETTO:-0400
TZNAME:EDT
DTSTART:20270314T070000
END:DAYLIGHT
BEGIN:STANDARD
TZOFFSETFROM:-0400
TZOFFSETTO:-0500
TZNAME:EST
DTSTART:20271107T060000
END:STANDARD
END:VTIMEZONE
BEGIN:VEVENT
DTSTART;TZID=America/Kentucky/Louisville:20260307T170000
DTEND;TZID=America/Kentucky/Louisville:20260307T210000
DTSTAMP:20260421T000940
CREATED:20251203T154313Z
LAST-MODIFIED:20260112T172814Z
UID:14330-1772902800-1772917200@lhcbsa.org
SUMMARY:Council Recognition Dinner
DESCRIPTION:The council recognition dinner is to celebrate our council volunteers. The Silver Beaver Award recognizes adult volunteers for exceptional service to Scouting at the council level. The Silver Beaver Award was introduced in 1931 and is a council‐level distinguished service award of the Scouting America. Recipients of this award are registered Scouters who have made an impact on the lives of youth through service given to the council. A limited number of Silver Beaver awards are awarded each year. The Silver Beaver is the highest award a council can bestow upon a volunteer for outstanding service to the council and the youth that it serves. This outstanding group of Scouters have given their time\, talent\, and treasure to the council and have not gone unnoticed. The awards will be presented at the annual council recognition dinner.
URL:https://lhcbsa.org/event/council-recognition-dinner/
LOCATION:Refinery South\, 450 Missouri Ave\, Jeffersonville\, IN\, 47130\, United States
ORGANIZER;CN="Amy Zehnder":MAILTO:amyzehnder269@gmail.com
END:VEVENT
END:VCALENDAR